Workbook

Sheet 登録シート (個人4人)
B2: 令和 | C2: 7 | D2: 年度
A3: 札幌市中体連剣道 新人戦 大会 選手登録用紙
A5: 地区名 | E5: 区 | G5: 部
A6: ＊中学校の場合、北区・東区のみ北部・南部を選択
A7: チーム名
A8: ＊中学校は、札幌市立を省略して入力〔○○中学校など〕
A9: 学校長・責任者 | G9: 印
L10: 審判・係補助員可能者氏名（審判は四段以上） | M10: 称号･段位
A11: 男子 監督 | B11: 職
B12: 氏名 | H12: 称号・段位 | K12: 段
A13: 女子 監督 | B13: 職
B14: 氏名 | H14: 称号・段位 | K14: 段
A15: ＊監督は、係のお手伝い（仕事）もしくは審判が当たります。 | L15: ＊審判可能な方は、上記欄にお名前と段位を記入してください。（四段以上）ただし、必ずしも審判のお手伝いをお願いするものではありません。
B16: =C7 -> 0 | F16: 監督 | G16: =IF(C12=0,"",C12)&IF(C14=0,"","・")&IF(C14=0,"",C14)
E17: 氏 名 | H17: 年 | I17: 級・段 | J17: 所属中学校 | L17: ふりがな | O17: 《記入にあたって》
B18: 男 子 | C18: 団体戦 | D18: 先 | K18: ⇒ | L18: =PHONETIC(E18) | P18: 部分に必要事項を入力してください。
D19: 次 | K19: ⇒ | L19: =PHONETIC(E19) | O19: ※外字については使用できない場合がありますので、ご了承ください。
D20: 中 | K20: ⇒ | L20: =PHONETIC(E20) | O20: 《団体戦の記入について》
D21: 副 | K21: ⇒ | L21: =PHONETIC(E21) | O21: ※空欄には必ず右上がりの斜線を引いて下さい。
D22: 大 | K22: ⇒ | L22: =PHONETIC(E22) | O22: ※登録選手の学年、段・級位はリストから選択して下さい。
D23: 補 | K23: ⇒ | L23: =PHONETIC(E23) | O23: （級を取得していない者には「無」を選択）
D24: 補 | K24: ⇒ | L24: =PHONETIC(E24) | O24: ※３名の場合は次鋒と副将を、４名の場合は次鋒を空けてください。
C25: 個人戦 | D25: 1 | K25: ⇒ | L25: =PHONETIC(E25) | O25: 《個人戦の記入について》
D26: 2 | K26: ⇒ | L26: =PHONETIC(E26) | O26: ※空欄には必ず右上がりの斜線を引いて下さい。
D27: 3 | K27: ⇒ | L27: =PHONETIC(E27) | O27: ※登録選手の学年、段・級位はリストから選択して下さい。
D28: 4 | K28: ⇒ | L28: =PHONETIC(E28) | O28: （級を取得していない者には「無」を選択）
B29: 女 子 | C29: 団体戦 | D29: 先 | K29: ⇒ | L29: =PHONETIC(E29) | O29: 《参加料について》
D30: 次 | K30: ⇒ | L30: =PHONETIC(E30) | O30: ※参加料は、団体戦‐１チーム６０００円、個人戦‐１人８００円
D31: 中 | K31: ⇒ | L31: =PHONETIC(E31) | O31: 《提出について》
D32: 副 | K32: ⇒ | L32: =PHONETIC(E32) | O32: ※原版1部を中学校はメールカーか郵送、地域クラブは郵送で「八条中学校 川内 涼」まで送付してください。
D33: 大 | K33: ⇒ | L33: =PHONETIC(E33) | O33: （FAX不可 職印・代表者印が必要なため）
D34: 補 | K34: ⇒ | L34: =PHONETIC(E34) | O34: ※併せて、校務支援メールまたは、e-mailで送信してください。
D35: 補 | K35: ⇒ | L35: =PHONETIC(E35) | O35: （ryo.kawauchi@sapporo-c.ed.jp）
C36: 個人戦 | D36: 1 | K36: ⇒ | L36: =PHONETIC(E36) | O36: ※期日までに届かない場合は選手登録ができませんので、期日に遅れぬようお願いいたします。
D37: 2 | K37: ⇒ | L37: =PHONETIC(E37) | O37: 45918 | Q37: (木)必着
D38: 3 | K38: ⇒ | L38: =PHONETIC(E38) | O38: ※ファイル名の【ここにチーム名を入れる】の中にチーム名を記入してください。
D39: 4 | K39: ⇒ | L39: =PHONETIC(E39)

Sheet Sheet1
A1: 地区名 | B1: {='登録シート (個人4人)'!C5:D5} -> 0 | C1: 0
A2: チーム名 | B2: {='登録シート (個人4人)'!C7:G7} -> 0 | C2: 0 | D2: 0 | E2: 0 | F2: 0
A3: 監督名 | B3: {='登録シート (個人4人)'!G16:J16} | C3: 0 | D3: 0 | E3: 0
A4: 入場代表者名 | B4: {='登録シート (個人4人)'!C14:G14} -> 0 | C4: 0 | D4: 0 | E4: 0 | F4: 0
A5: 審判可能者 | B5: ='登録シート (個人4人)'!L11&'登録シート (個人4人)'!L12&'登録シート (個人4人)'!L13
A6: 団体戦出場者
A7: 男子 | B7: =COUNTA('登録シート (個人4人)'!E18:G24) -> 0 | C7: 名 | D7: =IF(B7<1,"",IF(B7<=7,"1")) | E7: =D7*6000 -> #VALUE!
A8: 女子 | B8: =COUNTA('登録シート (個人4人)'!E29:G35) -> 0 | C8: 名 | D8: =IF(B8<1,"",IF(B8<=7,"1")) | E8: =D8*6000 -> #VALUE!
A9: 個人戦出場者
A10: 男子 | B10: =COUNTA('登録シート (個人4人)'!E25:G28) -> 0 | C10: 名 | E10: =B10*800 -> 0
A11: 女子 | B11: =COUNTA('登録シート (個人4人)'!E36:G39) -> 0 | C11: 名 | E11: =B11*800 -> 0
E12: 参加費 | F12: =E7+E8+E10+E11 -> #VALUE!
