Workbook

Sheet 記入例
A1: 第37回 札幌市中学生柔道体重別選手権大会
A2: 選手登録申込用紙（男子）
A4: チーム名 | D4: 東白石柔道少年団 | S4: 略称 | V4: 東白石
A6: 監督氏名 | D6: 佐藤 寛太 | K6: 印 | M6: 段位 | P6: 弐 | R6: 段 | S6: 指導者資格 | X6: Ａ ・ Ｂ ・ Ｃ
A7: 連絡先 住所 | D7: （ 自宅 ・ 職場 ）
D8: 札幌市白石区南郷通15丁目北4番1号
A9: 電話 | D9: （ 自宅 ・ 職場・ 携帯 ） | L9: 011－864－0984
A11: 階級 | D11: 選手氏名（漢字） | K11: 選手氏名（ふりがな） | Q11: 段位 | S11: 学年 | U11: 体重 (kg) | X11: 身長 (cm)
A13: 50kg級 | D13: 東白石 太郎 | K13: ひがししろいし たろう | Q13: 初 | S13: 3 | U13: 49 | X13: 160
A15: 81kg級 | D15: 東白石 次郎 | K15: ひがししろいし じろう | Q15: 無 | S15: 1 | U15: 80 | X15: 167
A38: 参加人数 | F38: 2 | I38: 名 | J38: × | K38: 1,000円 | O38: ＝ | P38: =F38*1000 -> 2000 | Z38: 円
A40: ●各チームごとにライセンスをお持ちの審判員の派遣をお願いいたします。
A41: 帯同審判員氏名 | K41: 所持審判ライセンス
A42: 佐藤寛太 | K42: Ａ ・ Ｂ ・ Ｃ
K43: Ａ ・ Ｂ ・ Ｃ
K44: Ａ ・ Ｂ ・ Ｃ
A46: 50kg級 | Q46: 無 | S46: 1
A47: 55kg級 | Q47: 初 | S47: 2
A48: 60kg級 | Q48: 弐 | S48: 3
A49: 66kg級 | Q49: 参
A50: 73kg級 | Q50: 四
A51: 81kg級 | Q51: 五
A52: 90kg級 | Q52: 六
A53: 90kg超級 | Q53: 七
Q54: 八
Q55: 九
Q56: 十

Sheet 男子
A1: 第37回 札幌市中学生柔道体重別選手権大会
A2: 選手登録申込用紙（男子）
A4: チーム名 | S4: 略称
A6: 監督氏名 | K6: 印 | M6: 段位 | R6: 段 | S6: 指導者資格 | X6: Ａ ・ Ｂ ・ Ｃ
A7: 連絡先 住所 | D7: （ 自宅 ・ 職場 ）
A9: 電話 | D9: （ 自宅 ・ 職場・ 携帯 ） 番
A11: 階級 | D11: 選手氏名（漢字） | K11: 選手氏名（ふりがな） | Q11: 段位 | S11: 学年 | U11: 体重 (kg) | X11: 身長 (cm)
A38: 参加人数 | I38: 名 | J38: × | K38: 1,000円 | O38: ＝ | P38: =F38*1000 -> 0 | Z38: 円
A40: ●各チームごとにライセンスをお持ちの審判員の派遣をお願いいたします。
A41: 帯同審判員氏名 | K41: 所持審判ライセンス
K42: Ａ ・ Ｂ ・ Ｃ
K43: Ａ ・ Ｂ ・ Ｃ
K44: Ａ ・ Ｂ ・ Ｃ
A46: 50kg級 | Q46: 無 | S46: 1
A47: 55kg級 | Q47: 初 | S47: 2
A48: 60kg級 | Q48: 弐 | S48: 3
A49: 66kg級 | Q49: 参
A50: 73kg級 | Q50: 四
A51: 81kg級 | Q51: 五
A52: 90kg級 | Q52: 六
A53: 90kg超級 | Q53: 七
Q54: 八
Q55: 九
Q56: 十

Sheet 男子2
A1: 第37回 札幌市中学生柔道体重別選手権大会
A2: 選手登録申込用紙（男子）
A4: チーム名 | S4: 略称
A6: 監督氏名 | K6: 印 | M6: 段位 | R6: 段 | S6: 指導者資格 | X6: Ａ ・ Ｂ ・ Ｃ
A7: 連絡先 住所 | D7: （ 自宅 ・ 職場 ）
A9: 電話 | D9: （ 自宅 ・ 職場・ 携帯 ） 番
A11: 階級 | D11: 選手氏名（漢字） | K11: 選手氏名（ふりがな） | Q11: 段位 | S11: 学年 | U11: 体重 (kg) | X11: 身長 (cm)
A38: 参加人数 | I38: 名 | J38: × | K38: 1,000円 | O38: ＝ | P38: =F38*1000 -> 0 | Z38: 円
A40: ●各チームごとにライセンスをお持ちの審判員の派遣をお願いいたします。
A41: 帯同審判員氏名 | K41: 所持審判ライセンス
K42: Ａ ・ Ｂ ・ Ｃ
K43: Ａ ・ Ｂ ・ Ｃ
K44: Ａ ・ Ｂ ・ Ｃ
A46: 50kg級 | Q46: 無 | S46: 1
A47: 55kg級 | Q47: 初 | S47: 2
A48: 60kg級 | Q48: 弐 | S48: 3
A49: 66kg級 | Q49: 参
A50: 73kg級 | Q50: 四
A51: 81kg級 | Q51: 五
A52: 90kg級 | Q52: 六
A53: 90kg超級 | Q53: 七
Q54: 八
Q55: 九
Q56: 十

Sheet 女子
A1: 第37回 札幌市中学生柔道体重別選手権大会
A2: 選手登録申込用紙（女子）
A4: チーム名 | S4: 略称
A6: 監督氏名 | K6: 印 | M6: 段位 | R6: 段 | S6: 指導者資格 | X6: Ａ ・ Ｂ ・ Ｃ
A7: 連絡先 住所 | D7: （ 自宅 ・ 職場 ）
A9: 電話 | D9: （ 自宅 ・ 職場・ 携帯 ） 番
A11: 階級 | D11: 選手氏名（漢字） | K11: 選手氏名（ふりがな） | Q11: 段位 | S11: 学年 | U11: 体重 (kg) | X11: 身長 (cm)
A38: 参加人数 | I38: 名 | J38: × | K38: 1,000円 | O38: ＝ | P38: =F38*1000 -> 0 | Z38: 円
A40: ●各チームごとにライセンスをお持ちの審判員の派遣をお願いいたします。
A41: 帯同審判員氏名 | K41: 所持審判ライセンス
K42: Ａ ・ Ｂ ・ Ｃ
K43: Ａ ・ Ｂ ・ Ｃ
K44: Ａ ・ Ｂ ・ Ｃ
A46: 40kg級 | Q46: 無 | S46: 1
A47: 44kg級 | Q47: 初 | S47: 2
A48: 48kg級 | Q48: 弐 | S48: 3
A49: 52kg級 | Q49: 参
A50: 57kg級 | Q50: 四
A51: 63kg級 | Q51: 五
A52: 70kg級 | Q52: 六
A53: 70kg超級 | Q53: 七
Q54: 八
Q55: 九
Q56: 十

Sheet 女子2
A1: 第37回 札幌市中学生柔道体重別選手権大会
A2: 選手登録申込用紙（女子）
A4: チーム名 | S4: 略称
A6: 監督氏名 | K6: 印 | M6: 段位 | R6: 段 | S6: 指導者資格 | X6: Ａ ・ Ｂ ・ Ｃ
A7: 連絡先 住所 | D7: （ 自宅 ・ 職場 ）
A9: 電話 | D9: （ 自宅 ・ 職場・ 携帯 ） 番
A11: 階級 | D11: 選手氏名（漢字） | K11: 選手氏名（ふりがな） | Q11: 段位 | S11: 学年 | U11: 体重 (kg) | X11: 身長 (cm)
A38: 参加人数 | I38: 名 | J38: × | K38: 1,000円 | O38: ＝ | P38: =F38*1000 -> 0 | Z38: 円
A40: ●各チームごとにライセンスをお持ちの審判員の派遣をお願いいたします。
A41: 帯同審判員氏名 | K41: 所持審判ライセンス
K42: Ａ ・ Ｂ ・ Ｃ
K43: Ａ ・ Ｂ ・ Ｃ
K44: Ａ ・ Ｂ ・ Ｃ
A46: 40kg級 | Q46: 無 | S46: 1
A47: 44kg級 | Q47: 初 | S47: 2
A48: 48kg級 | Q48: 弐 | S48: 3
A49: 52kg級 | Q49: 参
A50: 57kg級 | Q50: 四
A51: 63kg級 | Q51: 五
A52: 70kg級 | Q52: 六
A53: 70kg超級 | Q53: 七
Q54: 八
Q55: 九
Q56: 十

Sheet 事務局作業用
A2: 男子 | I2: 女子
A3: 階級 | B3: 名前 | C3: ふりがな | D3: 段位 | E3: 学年 | F3: 体重 | G3: 身長 | I3: 階級 | J3: 名前 | K3: ふりがな | L3: 段位 | M3: 学年 | N3: 体重 | O3: 身長
A4: =IF(男子!A13="","",男子!A13) | B4: =男子!D14 -> 0 | C4: =男子!K13 -> 0 | D4: =IF(男子!Q13="","",男子!Q13) | E4: =IF(男子!S13="","",男子!S13) | F4: =IF(男子!U13="","",男子!U13) | G4: =IF(男子!X13="","",男子!X13) | I4: =IF(女子!A13="","",女子!A13) | J4: =女子!D14 -> 0 | K4: =女子!K13 -> 0 | L4: =IF(女子!Q13="","",女子!Q13) | M4: =IF(女子!S13="","",女子!S13) | N4: =IF(女子!U13="","",女子!U13) | O4: =IF(女子!X13="","",女子!X13)
A5: =IF(男子!A15="","",男子!A15) | B5: =男子!D16 -> 0 | C5: =男子!K15 -> 0 | D5: =IF(男子!Q15="","",男子!Q15) | E5: =IF(男子!S15="","",男子!S15) | F5: =IF(男子!U15="","",男子!U15) | G5: =IF(男子!X15="","",男子!X15) | I5: =IF(女子!A15="","",女子!A15) | J5: =女子!D16 -> 0 | K5: =女子!K15 -> 0 | L5: =IF(女子!Q15="","",女子!Q15) | M5: =IF(女子!S15="","",女子!S15) | N5: =IF(女子!U15="","",女子!U15) | O5: =IF(女子!X15="","",女子!X15)
A6: =IF(男子!A17="","",男子!A17) | B6: =男子!D18 -> 0 | C6: =男子!K15 -> 0 | D6: =IF(男子!Q17="","",男子!Q17) | E6: =IF(男子!S17="","",男子!S17) | F6: =IF(男子!U17="","",男子!U17) | G6: =IF(男子!X17="","",男子!X17) | I6: =IF(女子!A17="","",女子!A17) | J6: =女子!D18 -> 0 | K6: =女子!K15 -> 0 | L6: =IF(女子!Q17="","",女子!Q17) | M6: =IF(女子!S17="","",女子!S17) | N6: =IF(女子!U17="","",女子!U17) | O6: =IF(女子!X17="","",女子!X17)
A7: =IF(男子!A19="","",男子!A19) | B7: =男子!D20 -> 0 | C7: =男子!K17 -> 0 | D7: =IF(男子!Q19="","",男子!Q19) | E7: =IF(男子!S19="","",男子!S19) | F7: =IF(男子!U19="","",男子!U19) | G7: =IF(男子!X19="","",男子!X19) | I7: =IF(女子!A19="","",女子!A19) | J7: =女子!D20 -> 0 | K7: =女子!K17 -> 0 | L7: =IF(女子!Q19="","",女子!Q19) | M7: =IF(女子!S19="","",女子!S19) | N7: =IF(女子!U19="","",女子!U19) | O7: =IF(女子!X19="","",女子!X19)
A8: =IF(男子!A21="","",男子!A21) | B8: =男子!D22 -> 0 | C8: =男子!K17 -> 0 | D8: =IF(男子!Q21="","",男子!Q21) | E8: =IF(男子!S21="","",男子!S21) | F8: =IF(男子!U21="","",男子!U21) | G8: =IF(男子!X21="","",男子!X21) | I8: =IF(女子!A21="","",女子!A21) | J8: =女子!D22 -> 0 | K8: =女子!K17 -> 0 | L8: =IF(女子!Q21="","",女子!Q21) | M8: =IF(女子!S21="","",女子!S21) | N8: =IF(女子!U21="","",女子!U21) | O8: =IF(女子!X21="","",女子!X21)
A9: =IF(男子!A23="","",男子!A23) | B9: =男子!D24 -> 0 | C9: =男子!K19 -> 0 | D9: =IF(男子!Q23="","",男子!Q23) | E9: =IF(男子!S23="","",男子!S23) | F9: =IF(男子!U23="","",男子!U23) | G9: =IF(男子!X23="","",男子!X23) | I9: =IF(女子!A23="","",女子!A23) | J9: =女子!D24 -> 0 | K9: =女子!K19 -> 0 | L9: =IF(女子!Q23="","",女子!Q23) | M9: =IF(女子!S23="","",女子!S23) | N9: =IF(女子!U23="","",女子!U23) | O9: =IF(女子!X23="","",女子!X23)
A10: =IF(男子!A25="","",男子!A25) | B10: =男子!D26 -> 0 | C10: =男子!K19 -> 0 | D10: =IF(男子!Q25="","",男子!Q25) | E10: =IF(男子!S25="","",男子!S25) | F10: =IF(男子!U25="","",男子!U25) | G10: =IF(男子!X25="","",男子!X25) | I10: =IF(女子!A25="","",女子!A25) | J10: =女子!D26 -> 0 | K10: =女子!K19 -> 0 | L10: =IF(女子!Q25="","",女子!Q25) | M10: =IF(女子!S25="","",女子!S25) | N10: =IF(女子!U25="","",女子!U25) | O10: =IF(女子!X25="","",女子!X25)
A11: =IF(男子!A27="","",男子!A27) | B11: =男子!D28 -> 0 | C11: =男子!K21 -> 0 | D11: =IF(男子!Q27="","",男子!Q27) | E11: =IF(男子!S27="","",男子!S27) | F11: =IF(男子!U27="","",男子!U27) | G11: =IF(男子!X27="","",男子!X27) | I11: =IF(女子!A27="","",女子!A27) | J11: =女子!D28 -> 0 | K11: =女子!K21 -> 0 | L11: =IF(女子!Q27="","",女子!Q27) | M11: =IF(女子!S27="","",女子!S27) | N11: =IF(女子!U27="","",女子!U27) | O11: =IF(女子!X27="","",女子!X27)
A12: =IF(男子!A29="","",男子!A29) | B12: =男子!D30 -> 0 | C12: =男子!K21 -> 0 | D12: =IF(男子!Q29="","",男子!Q29) | E12: =IF(男子!S29="","",男子!S29) | F12: =IF(男子!U29="","",男子!U29) | G12: =IF(男子!X29="","",男子!X29) | I12: =IF(女子!A29="","",女子!A29) | J12: =女子!D30 -> 0 | K12: =女子!K21 -> 0 | L12: =IF(女子!Q29="","",女子!Q29) | M12: =IF(女子!S29="","",女子!S29) | N12: =IF(女子!U29="","",女子!U29) | O12: =IF(女子!X29="","",女子!X29)
A13: =IF(男子!A31="","",男子!A31) | B13: =男子!D32 -> 0 | C13: =男子!K23 -> 0 | D13: =IF(男子!Q31="","",男子!Q31) | E13: =IF(男子!S31="","",男子!S31) | F13: =IF(男子!U31="","",男子!U31) | G13: =IF(男子!X31="","",男子!X31) | I13: =IF(女子!A31="","",女子!A31) | J13: =女子!D32 -> 0 | K13: =女子!K23 -> 0 | L13: =IF(女子!Q31="","",女子!Q31) | M13: =IF(女子!S31="","",女子!S31) | N13: =IF(女子!U31="","",女子!U31) | O13: =IF(女子!X31="","",女子!X31)
A14: =IF(男子!A33="","",男子!A33) | B14: =男子!D34 -> 0 | C14: =男子!K23 -> 0 | D14: =IF(男子!Q33="","",男子!Q33) | E14: =IF(男子!S33="","",男子!S33) | F14: =IF(男子!U33="","",男子!U33) | G14: =IF(男子!X33="","",男子!X33) | I14: =IF(女子!A33="","",女子!A33) | J14: =女子!D34 -> 0 | K14: =女子!K23 -> 0 | L14: =IF(女子!Q33="","",女子!Q33) | M14: =IF(女子!S33="","",女子!S33) | N14: =IF(女子!U33="","",女子!U33) | O14: =IF(女子!X33="","",女子!X33)
A15: =IF(男子!A35="","",男子!A35) | B15: =男子!D36 -> 0 | C15: =男子!K25 -> 0 | D15: =IF(男子!Q35="","",男子!Q35) | E15: =IF(男子!S35="","",男子!S35) | F15: =IF(男子!U35="","",男子!U35) | G15: =IF(男子!X35="","",男子!X35) | I15: =IF(女子!A35="","",女子!A35) | J15: =女子!D36 -> 0 | K15: =女子!K25 -> 0 | L15: =IF(女子!Q35="","",女子!Q35) | M15: =IF(女子!S35="","",女子!S35) | N15: =IF(女子!U35="","",女子!U35) | O15: =IF(女子!X35="","",女子!X35)
A16: =IF(男子2!A13="","",男子2!A13) | B16: =男子2!D14 -> 0 | C16: =男子2!K13 -> 0 | D16: =IF(男子2!Q13="","",男子2!Q13) | E16: =IF(男子2!S13="","",男子2!S13) | F16: =IF(男子2!U13="","",男子2!U13) | G16: =IF(男子2!X13="","",男子2!X13) | I16: =IF(女子2!A13="","",女子2!A13) | J16: =女子2!D14 -> 0 | K16: =女子2!K13 -> 0 | L16: =IF(女子2!Q13="","",女子2!Q13) | M16: =IF(女子2!S13="","",女子2!S13) | N16: =IF(女子2!U13="","",女子2!U13) | O16: =IF(女子2!X13="","",女子2!X13)
A17: =IF(男子2!A15="","",男子2!A15) | B17: =男子2!D16 -> 0 | C17: =男子2!K15 -> 0 | D17: =IF(男子2!Q15="","",男子2!Q15) | E17: =IF(男子2!S15="","",男子2!S15) | F17: =IF(男子2!U15="","",男子2!U15) | G17: =IF(男子2!X15="","",男子2!X15) | I17: =IF(女子2!A15="","",女子2!A15) | J17: =女子2!D16 -> 0 | K17: =女子2!K15 -> 0 | L17: =IF(女子2!Q15="","",女子2!Q15) | M17: =IF(女子2!S15="","",女子2!S15) | N17: =IF(女子2!U15="","",女子2!U15) | O17: =IF(女子2!X15="","",女子2!X15)
A18: =IF(男子2!A17="","",男子2!A17) | B18: =男子2!D18 -> 0 | C18: =男子2!D17 -> 0 | D18: =IF(男子2!Q17="","",男子2!Q17) | E18: =IF(男子2!S17="","",男子2!S17) | F18: =IF(男子2!U17="","",男子2!U17) | G18: =IF(男子2!X17="","",男子2!X17) | I18: =IF(女子2!A17="","",女子2!A17) | J18: =女子2!D18 -> 0 | K18: =女子2!D17 -> 0 | L18: =IF(女子2!Q17="","",女子2!Q17) | M18: =IF(女子2!S17="","",女子2!S17) | N18: =IF(女子2!U17="","",女子2!U17) | O18: =IF(女子2!X17="","",女子2!X17)
A19: =IF(男子2!A19="","",男子2!A19) | B19: =男子2!D20 -> 0 | C19: =男子2!K17 -> 0 | D19: =IF(男子2!Q19="","",男子2!Q19) | E19: =IF(男子2!S19="","",男子2!S19) | F19: =IF(男子2!U19="","",男子2!U19) | G19: =IF(男子2!X19="","",男子2!X19) | I19: =IF(女子2!A19="","",女子2!A19) | J19: =女子2!D20 -> 0 | K19: =女子2!K17 -> 0 | L19: =IF(女子2!Q19="","",女子2!Q19) | M19: =IF(女子2!S19="","",女子2!S19) | N19: =IF(女子2!U19="","",女子2!U19) | O19: =IF(女子2!X19="","",女子2!X19)
A20: =IF(男子2!A21="","",男子2!A21) | B20: =男子2!D22 -> 0 | C20: =男子2!D19 -> 0 | D20: =IF(男子2!Q21="","",男子2!Q21) | E20: =IF(男子2!S21="","",男子2!S21) | F20: =IF(男子2!U21="","",男子2!U21) | G20: =IF(男子2!X21="","",男子2!X21) | I20: =IF(女子2!A21="","",女子2!A21) | J20: =女子2!D22 -> 0 | K20: =女子2!D19 -> 0 | L20: =IF(女子2!Q21="","",女子2!Q21) | M20: =IF(女子2!S21="","",女子2!S21) | N20: =IF(女子2!U21="","",女子2!U21) | O20: =IF(女子2!X21="","",女子2!X21)
A21: =IF(男子2!A23="","",男子2!A23) | B21: =男子2!D24 -> 0 | C21: =男子2!K19 -> 0 | D21: =IF(男子2!Q23="","",男子2!Q23) | E21: =IF(男子2!S23="","",男子2!S23) | F21: =IF(男子2!U23="","",男子2!U23) | G21: =IF(男子2!X23="","",男子2!X23) | I21: =IF(女子2!A23="","",女子2!A23) | J21: =女子2!D24 -> 0 | K21: =女子2!K19 -> 0 | L21: =IF(女子2!Q23="","",女子2!Q23) | M21: =IF(女子2!S23="","",女子2!S23) | N21: =IF(女子2!U23="","",女子2!U23) | O21: =IF(女子2!X23="","",女子2!X23)
A22: =IF(男子2!A25="","",男子2!A25) | B22: =男子2!D26 -> 0 | C22: =男子2!D21 -> 0 | D22: =IF(男子2!Q25="","",男子2!Q25) | E22: =IF(男子2!S25="","",男子2!S25) | F22: =IF(男子2!U25="","",男子2!U25) | G22: =IF(男子2!X25="","",男子2!X25) | I22: =IF(女子2!A25="","",女子2!A25) | J22: =女子2!D26 -> 0 | K22: =女子2!D21 -> 0 | L22: =IF(女子2!Q25="","",女子2!Q25) | M22: =IF(女子2!S25="","",女子2!S25) | N22: =IF(女子2!U25="","",女子2!U25) | O22: =IF(女子2!X25="","",女子2!X25)
A23: =IF(男子2!A27="","",男子2!A27) | B23: =男子2!D28 -> 0 | C23: =男子2!K21 -> 0 | D23: =IF(男子2!Q27="","",男子2!Q27) | E23: =IF(男子2!S27="","",男子2!S27) | F23: =IF(男子2!U27="","",男子2!U27) | G23: =IF(男子2!X27="","",男子2!X27) | I23: =IF(女子2!A27="","",女子2!A27) | J23: =女子2!D28 -> 0 | K23: =女子2!K21 -> 0 | L23: =IF(女子2!Q27="","",女子2!Q27) | M23: =IF(女子2!S27="","",女子2!S27) | N23: =IF(女子2!U27="","",女子2!U27) | O23: =IF(女子2!X27="","",女子2!X27)
A24: =IF(男子2!A29="","",男子2!A29) | B24: =男子2!D30 -> 0 | C24: =男子2!D23 -> 0 | D24: =IF(男子2!Q29="","",男子2!Q29) | E24: =IF(男子2!S29="","",男子2!S29) | F24: =IF(男子2!U29="","",男子2!U29) | G24: =IF(男子2!X29="","",男子2!X29) | I24: =IF(女子2!A29="","",女子2!A29) | J24: =女子2!D30 -> 0 | K24: =女子2!D23 -> 0 | L24: =IF(女子2!Q29="","",女子2!Q29) | M24: =IF(女子2!S29="","",女子2!S29) | N24: =IF(女子2!U29="","",女子2!U29) | O24: =IF(女子2!X29="","",女子2!X29)
A25: =IF(男子2!A31="","",男子2!A31) | B25: =男子2!D32 -> 0 | C25: =男子2!K23 -> 0 | D25: =IF(男子2!Q31="","",男子2!Q31) | E25: =IF(男子2!S31="","",男子2!S31) | F25: =IF(男子2!U31="","",男子2!U31) | G25: =IF(男子2!X31="","",男子2!X31) | I25: =IF(女子2!A31="","",女子2!A31) | J25: =女子2!D32 -> 0 | K25: =女子2!K23 -> 0 | L25: =IF(女子2!Q31="","",女子2!Q31) | M25: =IF(女子2!S31="","",女子2!S31) | N25: =IF(女子2!U31="","",女子2!U31) | O25: =IF(女子2!X31="","",女子2!X31)
A26: =IF(男子2!A33="","",男子2!A33) | B26: =男子2!D34 -> 0 | C26: =男子2!D25 -> 0 | D26: =IF(男子2!Q33="","",男子2!Q33) | E26: =IF(男子2!S33="","",男子2!S33) | F26: =IF(男子2!U33="","",男子2!U33) | G26: =IF(男子2!X33="","",男子2!X33) | I26: =IF(女子2!A33="","",女子2!A33) | J26: =女子2!D34 -> 0 | K26: =女子2!D25 -> 0 | L26: =IF(女子2!Q33="","",女子2!Q33) | M26: =IF(女子2!S33="","",女子2!S33) | N26: =IF(女子2!U33="","",女子2!U33) | O26: =IF(女子2!X33="","",女子2!X33)
A27: =IF(男子2!A35="","",男子2!A35) | B27: =男子2!D36 -> 0 | C27: =男子2!K25 -> 0 | D27: =IF(男子2!Q35="","",男子2!Q35) | E27: =IF(男子2!S35="","",男子2!S35) | F27: =IF(男子2!U35="","",男子2!U35) | G27: =IF(男子2!X35="","",男子2!X35) | I27: =IF(女子2!A35="","",女子2!A35) | J27: =女子2!D36 -> 0 | K27: =女子2!K25 -> 0 | L27: =IF(女子2!Q35="","",女子2!Q35) | M27: =IF(女子2!S35="","",女子2!S35) | N27: =IF(女子2!U35="","",女子2!U35) | O27: =IF(女子2!X35="","",女子2!X35)
